BEGIN:VCALENDAR
VERSION:2.0
PRODID:-//CorrelAid//Events//EN
NAME:CorrelAid Events (DE)
X-WR-CALNAME:CorrelAid Events (DE)
BEGIN:VTIMEZONE
TZID:Europe/Berlin
X-LIC-LOCATION:Europe/Berlin
LAST-MODIFIED:20260119T222047Z
BEGIN:DAYLIGHT
TZNAME:CEST
TZOFFSETFROM:+0100
TZOFFSETTO:+0200
DTSTART:19700329T020000
RRULE:FREQ=YEARLY;BYMONTH=3;BYDAY=-1SU
END:DAYLIGHT
BEGIN:STANDARD
TZNAME:CET
TZOFFSETFROM:+0200
TZOFFSETTO:+0100
DTSTART:19701025T030000
RRULE:FREQ=YEARLY;BYMONTH=10;BYDAY=-1SU
END:STANDARD
END:VTIMEZONE
TIMEZONE-ID:Europe/Berlin
X-WR-TIMEZONE:Europe/Berlin
BEGIN:VEVENT
UID:event-206@correlaid.org
SEQUENCE:0
DTSTAMP:20260425T010318
DTSTART;TZID=Europe/Berlin:20260506T120000
DTEND;TZID=Europe/Berlin:20260506T130000
SUMMARY:Open Onboarding Call
LOCATION:Online
DESCRIPTION:Join our Open Onboarding Call to learn more about the structur
 e and workings of CorrelAid and where you can get involved.\n\nAt our mont
 hly Open Onboarding Call\, we provide a vivid insight into the diverse wor
 k of CorrelAid. Here\, you will not only get to know how our general coope
 ration looks like\, but also how our project work works and how our local 
 groups are organized. There will also be time and space for all your quest
 ions. Register [here](https://pretix.eu/correlaid/open-onboarding/)!\n\nRe
 gistration: https://pretix.eu/correlaid/open-onboarding/\n\nView more at: 
 https://correlaid.org/veranstaltungen/onboarding-call_may_26
URL;VALUE=URI:https://correlaid.org/veranstaltungen/onboarding-call_may_26
END:VEVENT
END:VCALENDAR