BEGIN:VCALENDAR
VERSION:2.0
PRODID:-//CorrelAid//Events//EN
NAME:CorrelAid Events (DE)
X-WR-CALNAME:CorrelAid Events (DE)
BEGIN:VTIMEZONE
TZID:Europe/Berlin
X-LIC-LOCATION:Europe/Berlin
LAST-MODIFIED:20260119T222047Z
BEGIN:DAYLIGHT
TZNAME:CEST
TZOFFSETFROM:+0100
TZOFFSETTO:+0200
DTSTART:19700329T020000
RRULE:FREQ=YEARLY;BYMONTH=3;BYDAY=-1SU
END:DAYLIGHT
BEGIN:STANDARD
TZNAME:CET
TZOFFSETFROM:+0200
TZOFFSETTO:+0100
DTSTART:19701025T030000
RRULE:FREQ=YEARLY;BYMONTH=10;BYDAY=-1SU
END:STANDARD
END:VTIMEZONE
TIMEZONE-ID:Europe/Berlin
X-WR-TIMEZONE:Europe/Berlin
BEGIN:VEVENT
UID:event-234@correlaid.org
SEQUENCE:0
DTSTAMP:20260425T010319
DTSTART;TZID=Europe/Berlin:20260430T093000
DTEND;TZID=Europe/Berlin:20260430T123000
SUMMARY:„Wie kann Deployment mit wenig Mitteln und Ressourcen nachhaltig
  gelingen?“
LOCATION:Online
DESCRIPTION:In diesem Workshop wollen wir uns damit auseinander setzen\, 
 wie Deployment mit wenig Mitteln und Ressourcen gelingt und wie man das au
 fgesetzte Setting als zivilgesellschaftliche Organisation  auch langfrist
 ig betreiben kann. \n\nUnser altbewährtes Format Gemeinsam Machen(\\*) ge
 ht in die nächste Runde! **Am 30. April laden wir euch zur sechsten Ausg
 abe** ein.\n\nDieses Mal widmen wir uns einem Thema\, das auf den ersten 
 Blick nicht so spannend klingt wie KI\, ohne das wir über KI-Anwendungen 
 aber erst gar nicht nachdenken brauchen: *Software Deployment*!(\\*\\*)\n
 \nKonkret wollen wir uns damit auseinander setzen\, **wie Deployment mit 
 wenig Mitteln und Ressourcen gelingt und wie man das aufgesetzte Setting a
 ls zivilgesellschaftliche Organisation  auch langfristig betreiben kann**
 . Dabei wollen wir uns u.a. den folgenden Fragen widmen:\n\n* **Aufsetzen*
 *: Kann die Grundarchitektur durch „Infrastructure as Code“ (IaC) und 
 „Configuration as Code“ (CaC) bereitgestellt werden?\n* **Bereitstellu
 ng**: Wie kann eine gute Übergabe erfolgen insb. dann\, wenn entsprechend
 es Know-how in der Organisation nicht vorhanden ist?\n* **Nachhaltigkeit**
 : Wie kann das Setting langfristig betrieben werden?\n\nWir haben einen wi
 chtigen Aspekt in Bezug auf das Thema vergessen? Euch beschäftigt noch et
 was darüber hinaus? Oder Ihr wollt Euch an der inhaltlichen Ausgestaltung
  des Workshops beteiligen? Dann meldet Euch gerne bei uns: am besten direk
 t in der [Datensprechstunde](https://zeeg.me/correlaid/dss-cdl)! Wir freu
 en uns über weitere Impulse\, um die Veranstaltung noch besser an den kon
 kreten Herausforderungen auszurichten.\n\n**Gemeinsam möchten wir im Rahm
 en des Workshops mögliche Ansätze diskutieren sowie die jeweiligen Vor- 
 und Nachteile skizzieren.**\n\nDieses Spannungsfeld ist Dir aus Eurer täg
 lichen Arbeit auch bekannt? Oder Du interessiert sich generell für das Th
 ema? Dann trag Dir den Termin am besten gleich im Kalender ein:\n\n**Gemei
 nsam Machen 6**\n\n**Donnerstag 30.04. 09:30-12:30**\n\n**>> [Hier geht’
 s zur Anmeldung!](https://app.guestoo.de/public/event/032c3ab0-2b3c-4a0c-8
 99b-a1674388d68c)**\n\n(\\*) Mit der Veranstaltungsreihe “Gemeinsam Mach
 en” bringen wir Akteur\\*innen aus der Zivilgesellschaft zusammen\, die 
 vor ähnlichen datenbezogenen Herausforderungen stehen und gemeinsam daten
 basierte Lösungen erarbeiten wollen.\n\n(\\*\\*) Unter „Software Deploy
 ment“ (zu Deutsch: Bereitstellung oder Veröffentlichung von Software) v
 ersteht Ihr nur Bahnhof? Dann schaut in unserem Selbstlernmaterial vorbei.
  [Hier findet Ihr eine Begriffserklärung dazu](https://civic-data.de/sel
 bstlernmaterial/#deployment).\n\nRegistration: https://community.civic-dat
 a.de/content/perma?id=21655\n\nView more at: https://correlaid.org/veranst
 altungen/gemeinsam_machen_deployment
URL;VALUE=URI:https://correlaid.org/veranstaltungen/gemeinsam_machen_deplo
 yment
END:VEVENT
END:VCALENDAR