BEGIN:VCALENDAR
VERSION:2.0
PRODID:-//CorrelAid//Events//EN
NAME:CorrelAid Events (DE)
X-WR-CALNAME:CorrelAid Events (DE)
BEGIN:VTIMEZONE
TZID:Europe/Berlin
X-LIC-LOCATION:Europe/Berlin
LAST-MODIFIED:20260119T222047Z
BEGIN:DAYLIGHT
TZNAME:CEST
TZOFFSETFROM:+0100
TZOFFSETTO:+0200
DTSTART:19700329T020000
RRULE:FREQ=YEARLY;BYMONTH=3;BYDAY=-1SU
END:DAYLIGHT
BEGIN:STANDARD
TZNAME:CET
TZOFFSETFROM:+0200
TZOFFSETTO:+0100
DTSTART:19701025T030000
RRULE:FREQ=YEARLY;BYMONTH=10;BYDAY=-1SU
END:STANDARD
END:VTIMEZONE
TIMEZONE-ID:Europe/Berlin
X-WR-TIMEZONE:Europe/Berlin
BEGIN:VEVENT
UID:event-228@correlaid.org
SEQUENCE:0
DTSTAMP:20260425T010319
DTSTART;TZID=Europe/Berlin:20260513T090000
DTEND;TZID=Europe/Berlin:20260513T153000
SUMMARY:Umfragen richtig konzipieren und durchführen
LOCATION:Online
DESCRIPTION:Unklare Ziele\, missverständliche Fragen und methodische Fehl
 er führen bei Umfragen oft zu wenig aussagekräftigen Ergebnissen. Im Dee
 p Dive lernst du\, strukturierte\, methodisch fundierte Fragebögen zu ent
 wickeln – um Zielgruppen und Ehrenamtliche besser zu verstehen\, Projekt
 e zu evaluieren und Feedback zu sammeln.\n\nUmfragen helfen dabei\, eure Z
 ielgruppen und Ehrenamtlichen besser zu verstehen\, eure Projekte zu evalu
 ieren und Feedback zu sammeln. Aber welche Fragen sind wirklich sinnvoll? 
 Wie vermeidet man missverständliche Formulierungen? Wie lassen sich Daten
 schutzrichtlinien einhalten? Und über welche Kanäle und Tools bekommt ma
 n die meisten Antworten? Wir helfen euch\, eure Umfragen richtig und selbs
 tbewusst zu konzipieren!\n\n### Das nimmst du aus dem Workshop mit\n\nNach
  dem Workshop kannst du strukturierte\, methodisch fundierte Fragebögen e
 ntwickeln. Du berücksichtigst dabei zentrale Prinzipien guter Umfragen\, 
 wählst passende Befragungswege und Tools aus und beachtest wichtige Daten
 schutzaspekte.\n\nKonkret lernst du:\n\n* woran man gute und problematisch
 e Fragen in Umfragen erkennt\,\n* wie du Ziele von Umfragen und Zielgruppe
 n klar definierst\,\n* wie du verständliche\, neutrale Fragen und passend
 e Antwortformate formulierst\,\n* wo du bestehende Fragen und Skalen finde
 n kannst.\n* wie ein logisch aufgebauter Fragebogen entsteht\,\n* welche d
 igitalen Umfragetools es gibt und wie du ein passendes auswählst\,\n* wie
  du einen Fragebogen einfach testest und verbesserst und\n* welche Datensc
 hutzaspekte du bei Umfragen berücksichtigen solltest.\n\n### Für wen ist
  der Workshop geeignet?\n\nDer Workshop richtet sich an Mitarbeitende in N
 on-Profit-Organisationen\, z. B. aus Projekt- und Wirkungsmanagement sowie
  Monitoring und Evaluation. Du bist hier richtig\, wenn du bereits Umfrage
 n durchgeführt hast oder Umfragen planst und sie künftig methodisch sich
 er gestalten möchtest. Vorkenntnisse in Umfragemethodik oder empirischer 
 Sozialforschung sind nicht erforderlich.\n\n### Format\n\n* 13.05.2026 09:
 00 - 15:30 Uhr.\n* 6-stündiger Deep Dive mit kurzen Inputs\, praxisnahen 
 Übungen und Peer-Learning in Kleingruppen.\n* Du erhältst eine Teilnahme
 bestätigung.\n\nDamit wir gemeinsam gut arbeiten können\, ist die Teilne
 hmendenzahl begrenzt – sichere dir am besten frühzeitig deinen Platz.\n
 \n### Teilnahmegebühren\n\n* Ermäßigt für gemeinnützige Organisatione
 n: 130 EUR\n* Regulär: 190 EUR\n\nBei Fragen zum Workshop melde dich gern
 e bei unserem Bildungsteam ([education@correlaid.org](mailto:education@cor
 relaid.org)).\n\nRegistration: https://pretix.eu/correlaid/deepdive-umfrag
 en/\n\nView more at: https://correlaid.org/veranstaltungen/deepdive-umfrag
 en-2026-01
URL;VALUE=URI:https://correlaid.org/veranstaltungen/deepdive-umfragen-2026
 -01
END:VEVENT
END:VCALENDAR