BEGIN:VCALENDAR
VERSION:2.0
PRODID:-//CorrelAid//Events//EN
NAME:CorrelAid Events (DE)
X-WR-CALNAME:CorrelAid Events (DE)
BEGIN:VTIMEZONE
TZID:Europe/Berlin
X-LIC-LOCATION:Europe/Berlin
LAST-MODIFIED:20260119T222047Z
BEGIN:DAYLIGHT
TZNAME:CEST
TZOFFSETFROM:+0100
TZOFFSETTO:+0200
DTSTART:19700329T020000
RRULE:FREQ=YEARLY;BYMONTH=3;BYDAY=-1SU
END:DAYLIGHT
BEGIN:STANDARD
TZNAME:CET
TZOFFSETFROM:+0200
TZOFFSETTO:+0100
DTSTART:19701025T030000
RRULE:FREQ=YEARLY;BYMONTH=10;BYDAY=-1SU
END:STANDARD
END:VTIMEZONE
TIMEZONE-ID:Europe/Berlin
X-WR-TIMEZONE:Europe/Berlin
BEGIN:VEVENT
UID:event-238@correlaid.org
SEQUENCE:0
DTSTAMP:20260425T010319
DTSTART;TZID=Europe/Berlin:20260911T170000
DTEND;TZID=Europe/Berlin:20260912T180000
SUMMARY:DatenDialog 11.-12.9.2026 @ Leipzig
LOCATION:tbd. / Leipzig
DESCRIPTION:Komm zum DatenDialog von CorrelAid und der Bertelsmann Stiftun
 g am 11. und 12. September 2026\n\n**DatenDialog September 2026 – Jetzt 
 anmelden und deinen Platz sichern!**\n\nStellt euch vor: Über 50 Data Sci
 entists\, 1\,5 Tage intensiver Zusammenarbeit\, bei der wir gemeinsam echt
 e Datenherausforderungen aus der Zivilgesellschaft\, Verwaltung und der Be
 rtelsmann Stiftung angehen – und dazu jede Menge Zeit für Networking un
 d Spaß. Das ist der DatenDialog! Klingt spannend? Dann verpasst nicht eur
 e Chance und meldet euch jetzt an!\n\n**📍 Veranstaltungsort:** tbd.\, L
 eipzig\n\n**📅 Datum:** 11. + 12. September 2026\n\n**🗣️ Sprache:**
  Allgemeine Veranstaltungssprache: Deutsch\; Fragen auf Englisch sind jede
 rzeit möglich\, ggfs. auch einzelne Brainstorming Sessions in Englischer 
 Sprachen (General event language: German\; questions in English are welcom
 e at any time\, and individual brainstorming sessions in English are also 
 possible if all participants are able to participate in English.)\n\n**
 💸 Kosten:** Reise- und Übernachtungskosten bis zu €300 werden übern
 ommen\n\n**💻 Was du brauchst:** Deinen Laptop und Teamgeist 🤝\n\n**[
 Bereit mitzumachen? Erfahrt mehr und meldet euch jetzt an!](https://www.be
 rtelsmann-stiftung.de/de/unsere-projekte/data-science-lab/datendialog)**\n
 \n**Neu in der Community?** **Hier erfahrt ihr\, was der DatenDialog ist:*
 * Der DatenDialog ist eine gemeinsame Veranstaltung von CorrelAid und der 
 Bertelsmann Stiftung. Organisationen aus der Zivilgesellschaft und die Ber
 telsmann Stiftung stellen reale Datenherausforderungen vor\, und ihr – z
 usammen mit anderen Data Volunteers – arbeitet in kleinen Teams daran\, 
 Ideen\, Konzepte und potenzielle Lösungen zu entwickeln.\n\nEs ist eine g
 roßartige Gelegenheit\, eure Fähigkeiten einzubringen\, von anderen zu l
 ernen und euch mit Gleichgesinnten zu vernetzen – während ihr gleichzei
 tig einen echten Impact erzeugen könnt.\n\n**Neugierig\, wie es aussieht?
 ** [Schaut euch das Video vom letzten DatenDialog an!](https://www.youtube
 .com/watch?v=8eDe2vjHRBQ)\n\n**Die Plätze sind begrenzt – meldet euch j
 etzt an\, um sicherzustellen\, dass ihr dabei seid!**\n\nWir freuen uns da
 rauf\, mit euch zusammenzuarbeiten!\n\nRegistration: https://ee.correlaid.
 org/x/4Er2QozS\n\nView more at: https://correlaid.org/veranstaltungen/date
 ndialog-sep2026
URL;VALUE=URI:https://correlaid.org/veranstaltungen/datendialog-sep2026
END:VEVENT
END:VCALENDAR