BEGIN:VCALENDAR
VERSION:2.0
PRODID:-//CorrelAid//Events//EN
NAME:CorrelAid Events (DE)
X-WR-CALNAME:CorrelAid Events (DE)
BEGIN:VTIMEZONE
TZID:Europe/Berlin
X-LIC-LOCATION:Europe/Berlin
LAST-MODIFIED:20260119T222047Z
BEGIN:DAYLIGHT
TZNAME:CEST
TZOFFSETFROM:+0100
TZOFFSETTO:+0200
DTSTART:19700329T020000
RRULE:FREQ=YEARLY;BYMONTH=3;BYDAY=-1SU
END:DAYLIGHT
BEGIN:STANDARD
TZNAME:CET
TZOFFSETFROM:+0200
TZOFFSETTO:+0100
DTSTART:19701025T030000
RRULE:FREQ=YEARLY;BYMONTH=10;BYDAY=-1SU
END:STANDARD
END:VTIMEZONE
TIMEZONE-ID:Europe/Berlin
X-WR-TIMEZONE:Europe/Berlin
BEGIN:VEVENT
UID:event-37@correlaid.org
SEQUENCE:0
DTSTAMP:20260421T010339
DTSTART;TZID=Europe/Berlin:20240315T133000
DTEND;TZID=Europe/Berlin:20240315T210000
SUMMARY:Datendialog Fokus 
DESCRIPTION:Am Freitag\, den 15.03.2024 findet die erste Ausgabe des Daten
 dialog Fokus in Kooperation mit der Bertelsmann Stiftung statt. \n\nBeim D
 atendialog Fokus handelt es sich um eine kleinere Ausgabe des Datendialogs
 \, bei dem 1-2 Teams der Stiftung themenbezogen ihre Datenherausforderung
 en einbringen. \nIn diesem [Dokument](https://docs.google.com/document/d/
 1SRyVBuUiy6is\\_KSpqzYbxvnP2wC2CYQMKFKYGxNkoz4/edit?usp=sharing) findest d
 u alle relevanten Informationen zur Veranstaltung (Agenda\, Datenherausfor
 derungen und weiterführende Infos).\n\nRegistration: https://ee.correlaid
 .org/x/E0VNHj79\n\nView more at: https://correlaid.org/veranstaltungen/dat
 endialog-fokus-bertelsmann-2024-1
URL;VALUE=URI:https://correlaid.org/veranstaltungen/datendialog-fokus-bert
 elsmann-2024-1
END:VEVENT
END:VCALENDAR