BEGIN:VCALENDAR
VERSION:2.0
PRODID:-//CorrelAid//Events//EN
NAME:CorrelAid Events (DE)
X-WR-CALNAME:CorrelAid Events (DE)
BEGIN:VTIMEZONE
TZID:Europe/Berlin
X-LIC-LOCATION:Europe/Berlin
LAST-MODIFIED:20260119T222047Z
BEGIN:DAYLIGHT
TZNAME:CEST
TZOFFSETFROM:+0100
TZOFFSETTO:+0200
DTSTART:19700329T020000
RRULE:FREQ=YEARLY;BYMONTH=3;BYDAY=-1SU
END:DAYLIGHT
BEGIN:STANDARD
TZNAME:CET
TZOFFSETFROM:+0200
TZOFFSETTO:+0100
DTSTART:19701025T030000
RRULE:FREQ=YEARLY;BYMONTH=10;BYDAY=-1SU
END:STANDARD
END:VTIMEZONE
TIMEZONE-ID:Europe/Berlin
X-WR-TIMEZONE:Europe/Berlin
BEGIN:VEVENT
UID:event-132@correlaid.org
SEQUENCE:0
DTSTAMP:20260421T010338
DTSTART;TZID=Europe/Berlin:20250708T140000
DTEND;TZID=Europe/Berlin:20250708T144500
SUMMARY:CorrelLAB: Was NPOs im neuen Kursprogramm erwartet
LOCATION:Online
DESCRIPTION:Deine Organisation will endlich mehr aus ihren Daten machen un
 d sie gezielt für ihre Wirkung einsetzen? Dann ist das CorrelLAB genau da
 s richtige für euch! In dieser Veranstaltung stellen wir euch das neue Pr
 ogramm von CorrelAid vor\, das Fortbildung und praktische Umsetzung verein
 t und beantworten alle eure Fragen dazu.\n\nWILLKOMMEN IM CORRELLAB!\nDas 
 CorrelLAB ist ein Programm von CorrelAid e. V.\, das euch beim Einstieg 
 in die datengestützte Arbeit unterstützt. In der 12-wöchigen Kursphase 
 helfen wir euch in ca. 4 Stunden pro Woche dabei\, den Nutzen von Daten zu
  erkennen und so intern eure Datenkompetenz auf- und auszubauen. In der Pr
 axisphase beraten und begleiten euch unsere ehrenamtlichen Data Scientists
  und setzen mit euch innerhalb von 9 Monaten eure Projektidee um.\nIn dies
 er Infoveranstaltung stellen wir euch das CorrelLAB genauer vor. Ihr habt 
 Fragen zur Anmeldung\, zur Finanzierung\, zum Ablauf? Wir haben die Antwor
 ten!\n\nRegistration: https://pretix.eu/correlaid/correllab-info/\n\nView 
 more at: https://correlaid.org/veranstaltungen/correllab-info
URL;VALUE=URI:https://correlaid.org/veranstaltungen/correllab-info
END:VEVENT
END:VCALENDAR