BEGIN:VCALENDAR
VERSION:2.0
PRODID:-//CorrelAid//Events//EN
NAME:CorrelAid Events (DE)
X-WR-CALNAME:CorrelAid Events (DE)
BEGIN:VTIMEZONE
TZID:Europe/Berlin
X-LIC-LOCATION:Europe/Berlin
LAST-MODIFIED:20260119T222047Z
BEGIN:DAYLIGHT
TZNAME:CEST
TZOFFSETFROM:+0100
TZOFFSETTO:+0200
DTSTART:19700329T020000
RRULE:FREQ=YEARLY;BYMONTH=3;BYDAY=-1SU
END:DAYLIGHT
BEGIN:STANDARD
TZNAME:CET
TZOFFSETFROM:+0200
TZOFFSETTO:+0100
DTSTART:19701025T030000
RRULE:FREQ=YEARLY;BYMONTH=10;BYDAY=-1SU
END:STANDARD
END:VTIMEZONE
TIMEZONE-ID:Europe/Berlin
X-WR-TIMEZONE:Europe/Berlin
BEGIN:VEVENT
UID:event-242@correlaid.org
SEQUENCE:0
DTSTAMP:20260425T010319
DTSTART;TZID=Europe/Berlin:20260714T170000
DTEND;TZID=Europe/Berlin:20260714T180000
SUMMARY:Community Corner
LOCATION:Online
DESCRIPTION:Join this casual community event and get to know other volunte
 ers and some of CorrelAid’s activities better\n\nThe monthly community c
 orner call is a space for CorrelAid volunteers to meet other volunteers\, 
 chat about a current topic\, and have a good time. We want to create a spa
 ce where we can interact and get to know each other better. It's hosted by
  John and Sören. We look forward to seeing you there!\n\nRegistration: ht
 tps://pretix.eu/correlaid/com-corner/\n\nView more at: https://correlaid.o
 rg/veranstaltungen/com-corner-jul
URL;VALUE=URI:https://correlaid.org/veranstaltungen/com-corner-jul
END:VEVENT
END:VCALENDAR