BEGIN:VCALENDAR
VERSION:2.0
PRODID:-//CorrelAid//Events//EN
NAME:CorrelAid Events (DE)
X-WR-CALNAME:CorrelAid Events (DE)
BEGIN:VTIMEZONE
TZID:Europe/Berlin
X-LIC-LOCATION:Europe/Berlin
LAST-MODIFIED:20260119T222047Z
BEGIN:DAYLIGHT
TZNAME:CEST
TZOFFSETFROM:+0100
TZOFFSETTO:+0200
DTSTART:19700329T020000
RRULE:FREQ=YEARLY;BYMONTH=3;BYDAY=-1SU
END:DAYLIGHT
BEGIN:STANDARD
TZNAME:CET
TZOFFSETFROM:+0200
TZOFFSETTO:+0100
DTSTART:19701025T030000
RRULE:FREQ=YEARLY;BYMONTH=10;BYDAY=-1SU
END:STANDARD
END:VTIMEZONE
TIMEZONE-ID:Europe/Berlin
X-WR-TIMEZONE:Europe/Berlin
BEGIN:VEVENT
UID:event-215@correlaid.org
SEQUENCE:0
DTSTAMP:20260425T010318
DTSTART;TZID=Europe/Berlin:20260611T110000
DTEND;TZID=Europe/Berlin:20260611T120000
SUMMARY:Der EU AI Act: Einführung und Einordnung
LOCATION:Online
DESCRIPTION:Was hat es eigentlich mit dem EU AI Act auf sich? \n\nWas hat 
 es eigentlich mit dem EU AI Act auf sich? Der Begriff taucht überall auf 
 – aber was steckt wirklich dahinter? In diesem Workshop bringen wir Lich
 t ins Dunkel der europäischen KI-Gesetzgebung. Wir schauen uns an\, was d
 er AI Act ist\, warum er entstanden ist und wen er betrifft. Wenn ihr wiss
 en wollt\, warum der AI Act gerade so viel Aufmerksamkeit bekommt und was 
 er für die Arbeit in NPO bedeutet\, dann seid ihr hier genau richtig!\n\n
 ---\n\nUnsere Workshops der Reihe **CorrelCompact** richten sich an ein br
 eites Publikum aus der Zivilgesellschaft und sind offen für alle\, die si
 ch für das Thema interessieren! Im Vordergrund steht dabei insbesondere d
 er Austausch zwischen Engagierten\, unabhängig ob im Haupt- oder Ehrenamt
 .\n\nRegistration: https://pretix.eu/correlaid/eu-ai-act26/\n\nView more a
 t: https://correlaid.org/veranstaltungen/cc26-eu-ai-act
URL;VALUE=URI:https://correlaid.org/veranstaltungen/cc26-eu-ai-act
END:VEVENT
END:VCALENDAR