BEGIN:VCALENDAR
VERSION:2.0
PRODID:-//CorrelAid//Events//EN
NAME:CorrelAid Events (DE)
X-WR-CALNAME:CorrelAid Events (DE)
BEGIN:VTIMEZONE
TZID:Europe/Berlin
X-LIC-LOCATION:Europe/Berlin
LAST-MODIFIED:20260119T222047Z
BEGIN:DAYLIGHT
TZNAME:CEST
TZOFFSETFROM:+0100
TZOFFSETTO:+0200
DTSTART:19700329T020000
RRULE:FREQ=YEARLY;BYMONTH=3;BYDAY=-1SU
END:DAYLIGHT
BEGIN:STANDARD
TZNAME:CET
TZOFFSETFROM:+0200
TZOFFSETTO:+0100
DTSTART:19701025T030000
RRULE:FREQ=YEARLY;BYMONTH=10;BYDAY=-1SU
END:STANDARD
END:VTIMEZONE
TIMEZONE-ID:Europe/Berlin
X-WR-TIMEZONE:Europe/Berlin
BEGIN:VEVENT
UID:event-237@correlaid.org
SEQUENCE:0
DTSTAMP:20260425T010319
DTSTART;TZID=Europe/Berlin:20260519T180000
DTEND;TZID=Europe/Berlin:20260519T190000
SUMMARY:CorrelCompact zum Ehrentag: Wie finde ich heraus\, ob unsere Aktio
 n erfolgreich war?
LOCATION:Online
DESCRIPTION:Ihr engagiert euch ehrenamtlich und wollt wissen\, ob eure Akt
 ionen wirklich etwas bewirken?\n\n**Wie finde ich heraus\, ob unsere Aktio
 n erfolgreich war?**\nIhr engagiert euch ehrenamtlich\, plant eine Aktion 
 für den Ehrentag und wollt danach wissen\, ob eure Aktion wirklich etwas 
 bewirkt hat? In diesem kostenlosen Online-Workshop von CorrelAid zeigen wi
 r euch\, wie ihr mit einfachen Mitteln die Wirkung eurer Aktion sichtbar m
 achen könnt.\nIn einer Stunde lernt ihr\, was Wirkung bedeutet\, wie eine
  Wirkungskette funktioniert und welche unkomplizierten Methoden ihr sofort
  einsetzen könnt\, um euren Erfolg zu messen. \n**Das erwartet euch:**\n-
  Kurzer Impuls: Was ist Wirkung und warum lohnt es sich\, sie zu messen?\n
 - Einführung in die Wirkungskette: Von der Herausforderung über Output u
 nd Outcome bis hin zum Impact.\n- Werkzeugkasten mit einfachen Messmethode
 n\, die ohne großen Aufwand funktionieren.\n**Für wen ist dieser Worksho
 p? **\nFür alle\, die eine Aktion organisieren oder unterstützen\,  egal
  ob im Rahmen des Ehrentags oder darüber hinaus. Ob Verein\, Initiative\,
  Kommune oder Einzelperson: Alle sind willkommen. Keine Vorkenntnisse nöt
 ig. \n\nUnsere Workshops der Reihe "CorrelCompact" richten sich an ein bre
 ites Publikum aus der Zivilgesellschaft und sind offen für alle\, die sic
 h für das jeweilige Thema interessieren! Im Vordergrund steht dabei insbe
 sondere der Austausch zwischen Engagierten\, unabhängig ob im Haupt- oder
  Ehrenamt.\n\nRegistration: https://pretix.eu/correlaid/correl-compact/492
 9897/\n\nView more at: https://correlaid.org/veranstaltungen/cc26-ehrentag
URL;VALUE=URI:https://correlaid.org/veranstaltungen/cc26-ehrentag
END:VEVENT
END:VCALENDAR