BEGIN:VCALENDAR
VERSION:2.0
PRODID:-//CorrelAid//Events//EN
NAME:CorrelAid Events (DE)
X-WR-CALNAME:CorrelAid Events (DE)
BEGIN:VTIMEZONE
TZID:Europe/Berlin
X-LIC-LOCATION:Europe/Berlin
LAST-MODIFIED:20260119T222047Z
BEGIN:DAYLIGHT
TZNAME:CEST
TZOFFSETFROM:+0100
TZOFFSETTO:+0200
DTSTART:19700329T020000
RRULE:FREQ=YEARLY;BYMONTH=3;BYDAY=-1SU
END:DAYLIGHT
BEGIN:STANDARD
TZNAME:CET
TZOFFSETFROM:+0200
TZOFFSETTO:+0100
DTSTART:19701025T030000
RRULE:FREQ=YEARLY;BYMONTH=10;BYDAY=-1SU
END:STANDARD
END:VTIMEZONE
TIMEZONE-ID:Europe/Berlin
X-WR-TIMEZONE:Europe/Berlin
BEGIN:VEVENT
UID:event-213@correlaid.org
SEQUENCE:0
DTSTAMP:20260424T010327
DTSTART;TZID=Europe/Berlin:20260409T110000
DTEND;TZID=Europe/Berlin:20260409T120000
SUMMARY:Diskriminierung durch KI: Wie kommt das und was können wir dagege
 n  tun?
LOCATION:Online
DESCRIPTION:In diesem Workshop beleuchten wir die Ursachen für Diskrimini
 erung durch KI und zeigen anhand von Beispielen aus der Praxis\, wie Diskr
 iminierung in KI-Systemen erkannt werden kann.\n\nKünstliche Intelligenz 
 schreibt Texte für die Öffentlichkeitsarbeit\, stellt medizinische Diagn
 osen und trifft Entscheidungen über Geld. Doch was passiert\, wenn Algori
 thmen diskriminieren – und warum tun sie das überhaupt? Wie entstehen V
 erzerrungen in KI-Systemen und welche konkreten Schritte können wir unter
 nehmen\, um faire und verantwortungsvolle KI zu gestalten? In diesem Works
 hop beleuchten wir die Ursachen für Diskriminierung durch KI und zeigen a
 nhand von Beispielen aus der Praxis\, wie Diskriminierung in KI-Systemen e
 rkannt werden kann. Zum Abschluss diskutieren wir Leitlinien und Maßnahme
 n für eine diskriminierungsärmere KI-Nutzung.\n\n---\n\nUnsere Workshops
  der Reihe **CorrelCompact** richten sich an ein breites Publikum aus der 
 Zivilgesellschaft und sind offen für alle\, die sich für das Thema inter
 essieren! Im Vordergrund steht dabei insbesondere der Austausch zwischen E
 ngagierten\, unabhängig ob im Haupt- oder Ehrenamt.\n\nRegistration: http
 s://pretix.eu/correlaid/diskriminierung/\n\nView more at: https://correlai
 d.org/veranstaltungen/cc26-diskriminierung
URL;VALUE=URI:https://correlaid.org/veranstaltungen/cc26-diskriminierung
END:VEVENT
END:VCALENDAR