BEGIN:VCALENDAR
VERSION:2.0
PRODID:-//CorrelAid//Events//EN
NAME:CorrelAid Events (DE)
X-WR-CALNAME:CorrelAid Events (DE)
BEGIN:VTIMEZONE
TZID:Europe/Berlin
X-LIC-LOCATION:Europe/Berlin
LAST-MODIFIED:20260119T222047Z
BEGIN:DAYLIGHT
TZNAME:CEST
TZOFFSETFROM:+0100
TZOFFSETTO:+0200
DTSTART:19700329T020000
RRULE:FREQ=YEARLY;BYMONTH=3;BYDAY=-1SU
END:DAYLIGHT
BEGIN:STANDARD
TZNAME:CET
TZOFFSETFROM:+0200
TZOFFSETTO:+0100
DTSTART:19701025T030000
RRULE:FREQ=YEARLY;BYMONTH=10;BYDAY=-1SU
END:STANDARD
END:VTIMEZONE
TIMEZONE-ID:Europe/Berlin
X-WR-TIMEZONE:Europe/Berlin
BEGIN:VEVENT
UID:event-216@correlaid.org
SEQUENCE:0
DTSTAMP:20260425T010318
DTSTART;TZID=Europe/Berlin:20260706T130000
DTEND;TZID=Europe/Berlin:20260706T140000
SUMMARY:Von und mit Daten überzeugen: Datenstrategie in eurer Organisatio
 n umsetzen
LOCATION:Online
DESCRIPTION:Wie schaffe ich es meine Vorgesetzten davon zu überzeugen\, d
 ass Daten und Wirkung wichtig sind?\n\nDaten sind mehr als nur Zahlen – 
 sie sind der Schlüssel\, um eure Arbeit sichtbar\, messbar und steuerbar 
 zu machen. Doch wie vermittelt ihr das eurer Führungsebene\, wenn es um R
 essourcen\, Prioritäten oder strategische Entscheidungen geht? Wie zeigt 
 ihr\, dass eine durchdachte Datenstrategie nicht nur Transparenz schafft\,
  sondern auch eure Wirkung verstärkt? In diesem Workshop geht es darum\, 
 Argumente und Methoden an die Hand zu bekommen\, um Vorgesetzte von der Be
 deutung von Daten zu überzeugen. Wir besprechen\, welche Fragen am Anfang
  jeder Datenstrategie stehen\, wie ihr Daten entlang eurer Wirkungskette s
 ammelt\, auswertet und nutzt\; außerdem\, wie ihr mit Daten nicht nur dok
 umentiert\, sondern auch überzeugt und eure Arbeit strategisch weiterentw
 ickelt.\n\n---\n\nUnsere Workshops der Reihe **CorrelCompact** richten sic
 h an ein breites Publikum aus der Zivilgesellschaft und sind offen für al
 le\, die sich für das Thema interessieren! Im Vordergrund steht dabei ins
 besondere der Austausch zwischen Engagierten\, unabhängig ob im Haupt- od
 er Ehrenamt.\n\nRegistration: https://pretix.eu/correlaid/datenstrategie/\
 n\nView more at: https://correlaid.org/veranstaltungen/cc26-datenstrategie
URL;VALUE=URI:https://correlaid.org/veranstaltungen/cc26-datenstrategie
END:VEVENT
END:VCALENDAR