BEGIN:VCALENDAR
VERSION:2.0
PRODID:-//CorrelAid//Events//EN
NAME:CorrelAid Events (DE)
X-WR-CALNAME:CorrelAid Events (DE)
BEGIN:VTIMEZONE
TZID:Europe/Berlin
X-LIC-LOCATION:Europe/Berlin
LAST-MODIFIED:20260119T222047Z
BEGIN:DAYLIGHT
TZNAME:CEST
TZOFFSETFROM:+0100
TZOFFSETTO:+0200
DTSTART:19700329T020000
RRULE:FREQ=YEARLY;BYMONTH=3;BYDAY=-1SU
END:DAYLIGHT
BEGIN:STANDARD
TZNAME:CET
TZOFFSETFROM:+0200
TZOFFSETTO:+0100
DTSTART:19701025T030000
RRULE:FREQ=YEARLY;BYMONTH=10;BYDAY=-1SU
END:STANDARD
END:VTIMEZONE
TIMEZONE-ID:Europe/Berlin
X-WR-TIMEZONE:Europe/Berlin
BEGIN:VEVENT
UID:event-149@correlaid.org
SEQUENCE:0
DTSTAMP:20260421T010338
DTSTART;TZID=Europe/Berlin:20251110T113000
DTEND;TZID=Europe/Berlin:20251110T123000
SUMMARY:Programmieren mit Python in der Zivilgesellschaft: (Wann) Brauche 
 ich das?
LOCATION:Online
DESCRIPTION:Wie kann ich Python in meinem Engagement nutzen?\n\nFür viele
  ist Programmieren erst einmal abschreckend und gruselig. Warum und wann e
 s im NGO- und zivilgesellschaftlichen Kontext trotzdem hilfreich sein kann
 \, zeigen wir in diesem einstündigen Workshop. Wir geben einen ersten Ein
 stieg ins Programmieren mit Python und demonstrieren an einem kurzen Beisp
 iel\, wie man Daten analysieren oder spannende Projekte umsetzen kann. Ach
 tung: Wir werden im Workshop mit [Google Colab](https://colab.research.goo
 gle.com/) arbeiten. Wer also mitmachen und nicht nur zuhören möchte\, br
 aucht vorab ein Google-Konto.\n---\nUnsere Workshops der Reihe \\*\\*Corre
 lCompact\\*\\* richten sich an ein breites Publikum aus der Zivilgesellsch
 aft und sind offen für alle\, die sich für das Thema interessieren! Im V
 ordergrund steht dabei insbesondere der Austausch zwischen Engagierten\, u
 nabhängig ob im Haupt- oder Ehrenamt.\n\nRegistration: https://pretix.eu/
 correlaid/cc25-python/\n\nView more at: https://correlaid.org/veranstaltun
 gen/cc25-python
URL;VALUE=URI:https://correlaid.org/veranstaltungen/cc25-python
END:VEVENT
END:VCALENDAR