BEGIN:VCALENDAR
VERSION:2.0
PRODID:-//CorrelAid//Events//EN
NAME:CorrelAid Events (EN)
X-WR-CALNAME:CorrelAid Events (EN)
BEGIN:VTIMEZONE
TZID:Europe/Berlin
X-LIC-LOCATION:Europe/Berlin
LAST-MODIFIED:20260119T222047Z
BEGIN:DAYLIGHT
TZNAME:CEST
TZOFFSETFROM:+0100
TZOFFSETTO:+0200
DTSTART:19700329T020000
RRULE:FREQ=YEARLY;BYMONTH=3;BYDAY=-1SU
END:DAYLIGHT
BEGIN:STANDARD
TZNAME:CET
TZOFFSETFROM:+0200
TZOFFSETTO:+0100
DTSTART:19701025T030000
RRULE:FREQ=YEARLY;BYMONTH=10;BYDAY=-1SU
END:STANDARD
END:VTIMEZONE
TIMEZONE-ID:Europe/Berlin
X-WR-TIMEZONE:Europe/Berlin
BEGIN:VEVENT
UID:event-226@correlaid.org
SEQUENCE:0
DTSTAMP:20260425T010315
DTSTART;TZID=Europe/Berlin:20260625T090000
DTEND;TZID=Europe/Berlin:20260625T120000
SUMMARY:Open Data Einführungsworkshop
LOCATION:Online
DESCRIPTION:Erfahre in diesem dreistündigen Online-Workshop das Wichtigst
 e zu offenen Daten und wie du mit den rechtlichen\, technischen und organi
 satorischen Herausforderungen umgehen kannst. \n\nDie Workshops richten s
 ich an Institutionen aus der **Zivilgesellschaft**\, die ihre Daten offen
  bereitstellen wollen. Es werden dir **Grundlagen von Open Data**\, praxis
 nahe **Anwendungsbeispiele** sowie Funktionalitäten des **Datenatlas Zivi
 lgesellschaft** vermittelt.\n\n* Was sind offene Daten und warum ist das w
 ichtig?\n* Welche Argumente sprechen für Open Data?\n* Organisatorische\,
  technische und rechtliche Maßnahmen\n* Tipps für den Einstieg: Wie star
 te ich mit offenen Daten?\n* Wie nutze ich den [Datenatlas Zivilgesellscha
 ft der Bertelsmann Stiftung](https://datenatlas-zivilgesellschaft.de/)?\n\
 nDie Open-Data-Einführungsworkshops werden von **CorrelAid e.V.** im Au
 ftrag der **Bertelsmann Stiftung** durchgeführt.\n\n**Referentinnen**\n\
 n**Zoé Wolter** ist Geschäftsführerin und Bildungsreferentin bei Correl
 Aid. Für sie ist Data4Good die perfekte Kombination aus Datenarbeit und E
 ngagement für das Gemeinwohl. Dabei bringt sie ihr Studium in Politik und
  Verwaltung sowie Data Science zusammen\, um Non-Profits bei ihrem Einstie
 g in die Daten-Welt zu unterstützen. Übrigens: Ihr erster Kontakt zum Pr
 ogrammieren war ein Workshop von CorrelAid!\n\nAls Bildungsreferentin bei 
 CorrelAid bringt **Nora Cremille** ihr Wissen aus den Bereichen Informatik
  und Psychologie zusammen\, um Non-Profit-Organisationen dabei zu unterst
 ützen\, Daten nicht nur zu nutzen\, sondern auch zu verstehen und zu komm
 unizieren. Ihr Ziel ist es\, die Zivilgesellschaft mit Data Literacy handl
 ungsfähiger zu machen.\n\nRegistration: https://pretix.eu/correlaid/open-
 data-2026-2/\n\nView more at: https://correlaid.org/en/events/workshop-ope
 n-data-4
URL;VALUE=URI:https://correlaid.org/en/events/workshop-open-data-4
END:VEVENT
END:VCALENDAR