BEGIN:VCALENDAR
VERSION:2.0
PRODID:-//CorrelAid//Events//EN
NAME:CorrelAid Events (EN)
X-WR-CALNAME:CorrelAid Events (EN)
BEGIN:VTIMEZONE
TZID:Europe/Berlin
X-LIC-LOCATION:Europe/Berlin
LAST-MODIFIED:20260119T222047Z
BEGIN:DAYLIGHT
TZNAME:CEST
TZOFFSETFROM:+0100
TZOFFSETTO:+0200
DTSTART:19700329T020000
RRULE:FREQ=YEARLY;BYMONTH=3;BYDAY=-1SU
END:DAYLIGHT
BEGIN:STANDARD
TZNAME:CET
TZOFFSETFROM:+0200
TZOFFSETTO:+0100
DTSTART:19701025T030000
RRULE:FREQ=YEARLY;BYMONTH=10;BYDAY=-1SU
END:STANDARD
END:VTIMEZONE
TIMEZONE-ID:Europe/Berlin
X-WR-TIMEZONE:Europe/Berlin
BEGIN:VEVENT
UID:event-230@correlaid.org
SEQUENCE:0
DTSTAMP:20260425T010315
DTSTART;TZID=Europe/Berlin:20260617T120000
DTEND;TZID=Europe/Berlin:20260617T130000
SUMMARY:Info Veranstaltung zum DatenDialog am 11. und 12. September in Lei
 pzig
LOCATION:Online
DESCRIPTION:Komm zu unserer Online Info Veranstaltung am 17.6. und erfahre
 \, was es mit dem DatenDialog auf sich hat. \n\nKomm zu unserer Info Veran
 staltung und erfahre\, wie das Eventformat DatenDialog\, welches CorrelAid
  und die Bertelsmann Stiftung gemeinsam umsetzen\, aussieht. Finde heraus\
 , wie du eine Datenherausforderung einbringen kannst\, oder dich als Volun
 teer / Data Buddy engagieren kannst.\n\nRegistration: https://pretix.eu/co
 rrelaid/infodatendialog/\n\nView more at: https://correlaid.org/en/events/
 dd-info-event
URL;VALUE=URI:https://correlaid.org/en/events/dd-info-event
END:VEVENT
END:VCALENDAR