BEGIN:VCALENDAR
VERSION:2.0
PRODID:-//CorrelAid//Events//EN
NAME:CorrelAid Events (EN)
X-WR-CALNAME:CorrelAid Events (EN)
BEGIN:VTIMEZONE
TZID:Europe/Berlin
X-LIC-LOCATION:Europe/Berlin
LAST-MODIFIED:20260119T222047Z
BEGIN:DAYLIGHT
TZNAME:CEST
TZOFFSETFROM:+0100
TZOFFSETTO:+0200
DTSTART:19700329T020000
RRULE:FREQ=YEARLY;BYMONTH=3;BYDAY=-1SU
END:DAYLIGHT
BEGIN:STANDARD
TZNAME:CET
TZOFFSETFROM:+0200
TZOFFSETTO:+0100
DTSTART:19701025T030000
RRULE:FREQ=YEARLY;BYMONTH=10;BYDAY=-1SU
END:STANDARD
END:VTIMEZONE
TIMEZONE-ID:Europe/Berlin
X-WR-TIMEZONE:Europe/Berlin
BEGIN:VEVENT
UID:event-199@correlaid.org
SEQUENCE:0
DTSTAMP:20260425T010315
DTSTART;TZID=Europe/Berlin:20261113T180000
DTEND;TZID=Europe/Berlin:20261115T120000
SUMMARY:CorrelCon 2026 @Karlsruhe (13-15 Nov)
LOCATION:Karlsruhe
DESCRIPTION:Come to CorrelAid's annual community event\, enjoy a varied pr
 ogram and meet people who are passionate about data science!\n\n**Across t
 hree days of networking\, coding\, and community spirit\, we aim to bring 
 CorrelAiders together and learn from one another. [Register here to join C
 orrelCon 2026](https://pretix.eu/correlaid/correlcon-2026/).**\n\n* Partic
 ipation is free! Accommodation in shared rooms at the youth hostel will be
  provided @youth hostel Karlsruhe (Moltkestraße 24\, 76133 Karlsruhe)\n* 
 Event space for workshop programme @Triangel Space Karlsruhe (Kaiserstraß
 e 93\, 76133 Karlsruhe)\n* If travel costs are a barrier\, please reach ou
 t to us at event@correlaid.org.\n\n**Friday\, 6–9 PM:** Arrive in Karlsr
 uhe\, check into the youth hostel\, and kick off the CorrelCon weekend wit
 h us at *Badisches Brauhaus* (Stephanienstraße 38–40\, 76133 Karlsruhe)
 . We’ll start with an introduction to CorrelAid and updates on recent in
 itiatives—followed by plenty of time to connect\, catch up\, and enjoy a
  drink together.\n\n**Saturday\, 10 AM–9 PM:** Take part in workshops an
 d discussions led by the CorrelAid community. Sessions will cover coding &
  tech\, Data4Good\, and networking & career development. The full agenda i
 s currently being finalized and will be shared with all attendees soon. We
  welcome all session contributions from the community (please use the regi
 stration form on Pretix).\n\n**Sunday\, 10 AM–12 PM:** Some more worksho
 ps\, get an inside look at CorrelAid’s teams and discover how you can ge
 t more involved\, event wrap-up.\n\nDetailed agenda will follow soon. Plea
 se register [here](https://pretix.eu/correlaid/correlcon-2026/).\n\nRegist
 ration: https://pretix.eu/correlaid/correlcon-2026/\n\nView more at: https
 ://correlaid.org/en/events/correlcon-26
URL;VALUE=URI:https://correlaid.org/en/events/correlcon-26
END:VEVENT
END:VCALENDAR