BEGIN:VCALENDAR
VERSION:2.0
PRODID:-//CorrelAid//Events//EN
NAME:CorrelAid Events (EN)
X-WR-CALNAME:CorrelAid Events (EN)
BEGIN:VTIMEZONE
TZID:Europe/Berlin
X-LIC-LOCATION:Europe/Berlin
LAST-MODIFIED:20260119T222047Z
BEGIN:DAYLIGHT
TZNAME:CEST
TZOFFSETFROM:+0100
TZOFFSETTO:+0200
DTSTART:19700329T020000
RRULE:FREQ=YEARLY;BYMONTH=3;BYDAY=-1SU
END:DAYLIGHT
BEGIN:STANDARD
TZNAME:CET
TZOFFSETFROM:+0200
TZOFFSETTO:+0100
DTSTART:19701025T030000
RRULE:FREQ=YEARLY;BYMONTH=10;BYDAY=-1SU
END:STANDARD
END:VTIMEZONE
TIMEZONE-ID:Europe/Berlin
X-WR-TIMEZONE:Europe/Berlin
BEGIN:VEVENT
UID:event-17@correlaid.org
SEQUENCE:0
DTSTAMP:20260419T010326
DTSTART;TZID=Europe/Berlin:20231110T170000
DTEND;TZID=Europe/Berlin:20231112T120000
SUMMARY:CorrelCon 2023 - it's data time!
LOCATION:Magdeburg
DESCRIPTION:Once summer is over\, it’s time for CorrelCon again: This ye
 ar\, we meet in Magdeburg November 10-12th! CorrelCon is the time to conne
 ct to other data enthusiasts from the CorrelAid network\, to get inspired\
 , to present your projects and to learn from others in discussions and wor
 kshops.\n\n\n## About CorrelCon\n\\*\\*\\*Note\\*\\*: We have prepared a 
 [comprehensive agenda](https://docs.google.com/document/d/1nv1PfopZKzvBuN6
 e9QjCfCES5wLx5FUyWcLhoom9-A4/edit?usp=sharing)\, which is available as a l
 iving document. It includes not only the schedule but also various essenti
 al details\, such as addresses\, the code of conduct\, etc.\\*\n\\*\\*Day 
 1 - CorrelAid Friday from 5PM to 8PM\\*\\*\nUpon arrival on Friday\, we st
 art with a presentation on the current status of CorrelAid and the CorrelA
 id community. This is the perfect introduction to CorrelAid for newbies bu
 t also an update opportunity for old CorrelAiders. Later\, 2-3 CorrelAid p
 rojects will present their work to give an idea of what’s possible with 
 Data4Good. We will end the evening with a networking session\, beers and l
 emonade.\n\\*\\*Day 2 - Data4Good Saturday from 10AM to 6PM\\*\\*\nSaturda
 y is your day: There will be discussions and workshops\, provided by membe
 rs of the CorrelAid Community for the CorrelAid Community.\nWe offer 30\, 
 60 and 90 minute sessions within these 3 topics:\n1. Coding & Tech\n2. Dat
 a4Good\n3. Networking & Career\nExamples for typical sessions include intr
 oductions to Python\, R or Git and advanced sessions on web scraping\, dat
 a gathering\, on statistical methods\, the newest algorithms or writing yo
 ur own R-package. For more inspiration\, check out the [collections of the
  past CorrelCons](https://docs.correlaid.org/correlcollection/correlcon).\
 n​​If you have an idea for a session\, please let us know about it in 
 the registration form!\n💡You have an idea\, but are not sure if it’s 
 a good fit? [Reach out to us](mailto:events@correlaid.org)\, we would love
  to hear about it.\n\\*\\*Day 3 - Community Sunday from 10PM to 12PM\\*\\*
 \nOn Sunday\, we will dive into \\*\\*internal topics\\*\\*. Get to know t
 he different teams that help us make CorrelAid e.V. great and give you the
  opportunity to get involved. One conference can make all the difference. 
 Get inspired.\n## Hard facts\, travel and accommodation\n\\* 10-12th Novem
 ber\n\\* Jugendherberge (youth hostel) Magdeburg\, Leiterstr. 10\, 39104 M
 agdeburg\n\\* Workshops\, talks\, networking\, party\n\\* CorrelAid pays f
 or 2 nights accommodation in the youth hostel\, breakfast and dinner\n\\* 
 Travel cannot be covered completely\, but can be subsidized with travel gr
 ants of ~50 Euro. If you need more financial assistance to travel\, please
  ✉️[contact us](mailto:info@correlaid.org)!\nOnly 30 spots in the yout
 h hostel are available on a first-come first-serve basis so make sure to [
 register soon](https://forms.gle/8ELSxkNjLWzN4XVd8)! If you want to partic
 ipate without staying in the youth hostel\, that’s also possible. \\*\\*
 Registration closes October 12th.\\*\\*\nDon’t forget to tell your frien
 ds and CorrelAid contacts and invite them to meet you offline in Magdeburg
 .\nWe look forward to meeting you at CorrelCon 2023! 💚\nYour CorrelCon 
 organizers\nLisa\, Rahel and Sören\n[events@correlaid.org](mailto:events@
 correlaid.org)\nThe CorrelCon\, CorrelAid's annual community event is spon
 sored by Babbel this year. We thank our partner for the cooperation.\n![da
 s Babbel Logo ](https://cms.correlaid.org/assets/40784a54-29db-4a0a-b167-7
 fd4706551ae)\n\nRegistration: https://forms.gle/8ELSxkNjLWzN4XVd8\n\nView 
 more at: https://correlaid.org/en/events/correlcon-2023
URL;VALUE=URI:https://correlaid.org/en/events/correlcon-2023
END:VEVENT
END:VCALENDAR