BEGIN:VCALENDAR
VERSION:2.0
PRODID:-//CorrelAid//Events//EN
NAME:CorrelAid Events (EN)
X-WR-CALNAME:CorrelAid Events (EN)
BEGIN:VTIMEZONE
TZID:Europe/Berlin
X-LIC-LOCATION:Europe/Berlin
LAST-MODIFIED:20260119T222047Z
BEGIN:DAYLIGHT
TZNAME:CEST
TZOFFSETFROM:+0100
TZOFFSETTO:+0200
DTSTART:19700329T020000
RRULE:FREQ=YEARLY;BYMONTH=3;BYDAY=-1SU
END:DAYLIGHT
BEGIN:STANDARD
TZNAME:CET
TZOFFSETFROM:+0200
TZOFFSETTO:+0100
DTSTART:19701025T030000
RRULE:FREQ=YEARLY;BYMONTH=10;BYDAY=-1SU
END:STANDARD
END:VTIMEZONE
TIMEZONE-ID:Europe/Berlin
X-WR-TIMEZONE:Europe/Berlin
BEGIN:VEVENT
UID:event-235@correlaid.org
SEQUENCE:0
DTSTAMP:20260425T010315
DTSTART;TZID=Europe/Berlin:20260611T093000
DTEND;TZID=Europe/Berlin:20260611T163000
SUMMARY:Civic Data Barcamp 2026
LOCATION:Erfurt
DESCRIPTION:Das dritte Civic Data Lab Barcamp „JEDER KANNS" kommt am 11.
  Juni nach Erfurt. Ihr bringt eine Datenfrage\, ein Projekt oder eine Idee
  mit – und die Agenda entsteht vor Ort\, mit Euch. Kein fertiges Program
 m\, keine einseitigen Vorträge. Stattdessen eine Manege\, in der alle gle
 ichzeitig Artist*innen und Publikum sind.\n\nLiebe Datenfreund\\*innen\, N
 eugierige\, Möglichmachende\,\n\n**Jede\\*r kann!** Das ist nicht nur uns
 er CDL-Motto – es ist eine echte Einladung. Zu einem Barcamp\, das genau
  das lebt. Und zu einer Location\, die es im Namen trägt.\n\nAm Donnersta
 g\, den 11. Juni schlägt das Civic Data Lab sein Zirkuszelt in Erfurt auf
 . Im**„Jederkann Galerie"**am Leipziger Platz 9 – eine Location für f
 ür Eure Kreativität\, Begegnung\, Inspiration und ein offener Raum für 
 frische Gedanken. Und ja: im CDL-Zirkus kann wirklich jede\\*r auftreten.\
 n\nDaten jonglieren? Klingt schwieriger als es ist. Wer zum ersten Mal jon
 gliert\, fängt mit **1**Ball an. Wer zum ersten Mal mit Daten arbeitet\, 
 fängt mit **1**Frage an. Beides braucht keine Vorbildung\, nur Menschen\,
  die den Mut haben\, es auszuprobieren. Und genau die findet Ihr bei uns 
 – wo wissen geteilt wird.\n\nBeim Barcamp seilen wir uns gemeinsam ab un
 d Du bestimmst\, wohin. Kein fertiges Programm\, keine einseitigen Vorträ
 ge. Kein Hochseil\, auf dem nur Profis balancieren dürfen.\n\nStattdessen
 :\n\n* 🎪 Du hast eine Frage? Bring sie mit: sie ist Dein Eintrittsakt!\
 n* 🤹 Du hast ein Projekt? Zeig es uns: die Manege gehört Dir!\n* 🎠 
 Du willst zuhören\, mitdenken\, Dich austauschen? Auch das ist eine Kunst
 form!\n\nIm Zirkus braucht jede Nummer ihr Publikum. Und jede Idee braucht
  Menschen\, die zuhören\, mitmachen\, weiterdenken. Stellt Euch unser Bar
 camp wie eine Zirkusmanege vor\, in der alle gleichzeitig Artist\\*in und 
 Publikum sind. Eine Idee in die Luft werfen\, eine andere auffangen\, eine
  dritte weitergeben. Und am Ende gehen wir alle gestärkt nach Hause\, mit
  neuen Perspektiven\, frischen Kontakten und dem Gefühl: gemeinsam kriege
 n wir das hin!\n\nOb Du aus Zivilgesellschaft\, Verwaltung\, Wissenschaft\
 , Medien oder einfach aus Neugier kommst – Du bist herzlich willkommen. 
 Empowerment fängt dort an\, wo Wissen geteilt wird. Und wo Menschen sich 
 trauen zu sagen: „Ich probiere das einfach mal aus."\n\nWir freuen uns\,
  schon vorab mit Euch über Session-Ideen auf HumHub im [Civic Data Camp-S
 pace](https://community.civic-data.de/s/civic-data-camp-iii-2026/post/post
 /view?id=557) zu diskutieren. Dort können wir uns auch vernetzen und eure
  Fragen beantworten.\n\n📅 11. Juni | 📍 „Jederkann Galerie"\, Leipz
 iger Platz 9\, Erfurt | [jederkann.online](https://www.jederkann.online/)\
 n\nFormat: offen\, partizipativ\, gemeinschaftlich – JEDER KANNS. 🎪\n
 \nWir freuen uns auf Dich und auf alles\, was Du mitbringst.\n\nRegistrati
 on: https://app.guestoo.de/public/event/a4552bcf-38e0-4488-bfd7-2fd96d4904
 41?lang=de\n\nView more at: https://correlaid.org/en/events/civic_data_bar
 camp_2026
URL;VALUE=URI:https://correlaid.org/en/events/civic_data_barcamp_2026
END:VEVENT
END:VCALENDAR