BEGIN:VCALENDAR
VERSION:2.0
PRODID:-//CorrelAid//Events//EN
NAME:CorrelAid Events (EN)
X-WR-CALNAME:CorrelAid Events (EN)
BEGIN:VTIMEZONE
TZID:Europe/Berlin
X-LIC-LOCATION:Europe/Berlin
LAST-MODIFIED:20260119T222047Z
BEGIN:DAYLIGHT
TZNAME:CEST
TZOFFSETFROM:+0100
TZOFFSETTO:+0200
DTSTART:19700329T020000
RRULE:FREQ=YEARLY;BYMONTH=3;BYDAY=-1SU
END:DAYLIGHT
BEGIN:STANDARD
TZNAME:CET
TZOFFSETFROM:+0200
TZOFFSETTO:+0100
DTSTART:19701025T030000
RRULE:FREQ=YEARLY;BYMONTH=10;BYDAY=-1SU
END:STANDARD
END:VTIMEZONE
TIMEZONE-ID:Europe/Berlin
X-WR-TIMEZONE:Europe/Berlin
BEGIN:VEVENT
UID:event-214@correlaid.org
SEQUENCE:0
DTSTAMP:20260425T010315
DTSTART;TZID=Europe/Berlin:20260512T130000
DTEND;TZID=Europe/Berlin:20260512T140000
SUMMARY:Tabellen ohne Kopfzerbrechen: Excel in der Vereinspraxis
LOCATION:Online
DESCRIPTION:Keine Lust mehr mit Spalten\, Formaten\, kryptischen Formeln o
 der unübersichtlichem Aufbau zu kämpfen?\n\nDaten in Tabellenform begegn
 en uns überall\, ob bei der Teilnehmendenliste\, der Auswertung einer Umf
 rage oder der Budgetplanung. Doch oft kämpfen wir mit zu vielen Spalten\,
  Formaten\, kryptischen Formeln oder unübersichtlichem Aufbau. Wir zeigen
  einfache Tricks für den Umgang mit Excel: von Filtern über Pivot-Tabell
 en bis zur sauberen Struktur. deal für den Einstieg oder als Auffrischung
 .\n\n---\n\nUnsere Workshops der Reihe **CorrelCompact** richten sich an e
 in breites Publikum aus der Zivilgesellschaft und sind offen für alle\, d
 ie sich für das Thema interessieren! Im Vordergrund steht dabei insbesond
 ere der Austausch zwischen Engagierten\, unabhängig ob im Haupt- oder Ehr
 enamt.\n\nRegistration: https://pretix.eu/correlaid/excel-verein/\n\nView 
 more at: https://correlaid.org/en/events/cc26-excel-verein
URL;VALUE=URI:https://correlaid.org/en/events/cc26-excel-verein
END:VEVENT
END:VCALENDAR