BEGIN:VCALENDAR
VERSION:2.0
PRODID:-//CorrelAid//Events//EN
NAME:CorrelAid Events (EN)
X-WR-CALNAME:CorrelAid Events (EN)
BEGIN:VTIMEZONE
TZID:Europe/Berlin
X-LIC-LOCATION:Europe/Berlin
LAST-MODIFIED:20260119T222047Z
BEGIN:DAYLIGHT
TZNAME:CEST
TZOFFSETFROM:+0100
TZOFFSETTO:+0200
DTSTART:19700329T020000
RRULE:FREQ=YEARLY;BYMONTH=3;BYDAY=-1SU
END:DAYLIGHT
BEGIN:STANDARD
TZNAME:CET
TZOFFSETFROM:+0200
TZOFFSETTO:+0100
DTSTART:19701025T030000
RRULE:FREQ=YEARLY;BYMONTH=10;BYDAY=-1SU
END:STANDARD
END:VTIMEZONE
TIMEZONE-ID:Europe/Berlin
X-WR-TIMEZONE:Europe/Berlin
BEGIN:VEVENT
UID:event-227@correlaid.org
SEQUENCE:0
DTSTAMP:20260425T010315
DTSTART;TZID=Europe/Berlin:20260428T183000
DTEND;TZID=Europe/Berlin:20260428T193000
SUMMARY:Introduction to social impact and impact measurement
LOCATION:Online
DESCRIPTION:Learn about one of the most important topics in the NPO data s
 pace and gain valuable background knowledge for your volunteering in many 
 Data4Good projects.\n\nActivities in CorrelAid Data4Good projects take man
 y forms: building dashboards\, writing reports\, improving data collection
 \, fitting statistical models\, or automating processes. What unites many 
 of our projects is the context of **impact measurement** (“Wirkungsmessu
 ng”). But what is impact\, how do NPOs measure it\, and why does the ter
 m appear in so many calls for applications you have read in our newsletter
 ?\n\nThis workshop introduces you to important concepts such as **social i
 mpact**\, **impact measurement**\, **theory of change**\, and the **input
 –output–outcome–impact (IOOI)** framework. We will also explore comm
 on methods\, challenges\, and opportunities\, and discuss why impact measu
 rement has become increasingly important for many NPOs.\n\nThe workshop wi
 ll help you understand the perspective and needs of NPO partners and how y
 our Data4Good volunteering can support them.\n\nRegistration: https://pret
 ix.eu/correlaid/data4good-volunteering/4898654/\n\nView more at: https://c
 orrelaid.org/en/events/2026-04-d4gv-impact-measurement
URL;VALUE=URI:https://correlaid.org/en/events/2026-04-d4gv-impact-measurem
 ent
END:VEVENT
END:VCALENDAR